BEGIN:VCALENDAR
VERSION:2.0
PRODID:-//SJO DEES VESSEM - ECPv6.15.20//NONSGML v1.0//EN
CALSCALE:GREGORIAN
METHOD:PUBLISH
X-WR-CALNAME:SJO DEES VESSEM
X-ORIGINAL-URL:https://deesvessem.nl
X-WR-CALDESC:Evenementen voor SJO DEES VESSEM
REFRESH-INTERVAL;VALUE=DURATION:PT1H
X-Robots-Tag:noindex
X-PUBLISHED-TTL:PT1H
BEGIN:VTIMEZONE
TZID:UTC
BEGIN:STANDARD
TZOFFSETFROM:+0000
TZOFFSETTO:+0000
TZNAME:UTC
DTSTART:20250101T000000
END:STANDARD
END:VTIMEZONE
BEGIN:VEVENT
DTSTART;TZID=UTC:20260826T180000
DTEND;TZID=UTC:20260826T180000
DTSTAMP:20260420T224920
CREATED:20260414T191503Z
LAST-MODIFIED:20260414T191702Z
UID:1581-1787767200-1787767200@deesvessem.nl
SUMMARY:Aftraptoernooi Vessem
DESCRIPTION:
URL:https://deesvessem.nl/event/aftraptoernooi-vessem/
LOCATION:Sportpark De Lille\, Jan Smuldersstraat 54\, Vessem\, Nederland
END:VEVENT
END:VCALENDAR