BEGIN:VCALENDAR
VERSION:2.0
PRODID:-//SJO DEES VESSEM - ECPv6.15.20//NONSGML v1.0//EN
CALSCALE:GREGORIAN
METHOD:PUBLISH
X-ORIGINAL-URL:https://deesvessem.nl
X-WR-CALDESC:Evenementen voor SJO DEES VESSEM
REFRESH-INTERVAL;VALUE=DURATION:PT1H
X-Robots-Tag:noindex
X-PUBLISHED-TTL:PT1H
BEGIN:VTIMEZONE
TZID:UTC
BEGIN:STANDARD
TZOFFSETFROM:+0000
TZOFFSETTO:+0000
TZNAME:UTC
DTSTART:20250101T000000
END:STANDARD
END:VTIMEZONE
BEGIN:VEVENT
DTSTART;VALUE=DATE:20260524
DTEND;VALUE=DATE:20260526
DTSTAMP:20260422T102635
CREATED:20251112T173349Z
LAST-MODIFIED:20251116T123426Z
UID:1404-1779580800-1779753599@deesvessem.nl
SUMMARY:vv Vessem Pinkstertoernooi 2026
DESCRIPTION:
URL:https://deesvessem.nl/event/vv-vessem-pinkstertoernooi-2026/
LOCATION:Sportpark De Lille\, Jan Smuldersstraat 54\, Vessem\, Nederland
ORGANIZER;CN="vv Vessem":MAILTO:pinkstertoernooi@vvvessem.nl
END:VEVENT
END:VCALENDAR